BEGIN:VCALENDAR
VERSION:2.0
PRODID:-//wp-events-plugin.com//7.2.3.1//EN
BEGIN:VEVENT
UID:316@sosjinternational.org
DTSTART;VALUE=DATE:20270917
DTEND;VALUE=DATE:20270920
DTSTAMP:20260312T220911Z
URL:https://www.sosjinternational.org/news-events/events/vancouver-command
 ery-investiture-5/
SUMMARY:Vancouver Commandery Investiture
DESCRIPTION:
CATEGORIES:Special Event,Social Events,Investiture Date
END:VEVENT
END:VCALENDAR