BEGIN:VCALENDAR
VERSION:2.0
PRODID:-//wp-events-plugin.com//7.2.3.1//EN
BEGIN:VEVENT
UID:313@sosjinternational.org
DTSTART:20260625T173000Z
DTEND:20260625T203000Z
DTSTAMP:20260125T233723Z
URL:https://www.sosjinternational.org/news-events/events/vancouver-command
 ery-annual-general-meeting-3/
SUMMARY:Vancouver Commandery Annual General Meeting
DESCRIPTION:
CATEGORIES:Annual General Meeting
END:VEVENT
END:VCALENDAR