BEGIN:VCALENDAR
VERSION:2.0
PRODID:-//wp-events-plugin.com//7.2.3.1//EN
BEGIN:VEVENT
UID:6@sosjinternational.org
DTSTART;VALUE=DATE:20160415
DTEND;VALUE=DATE:20160417
DTSTAMP:20160302T154900Z
URL:https://www.sosjinternational.org/news-events/events/priory-of-western
 -usa-investiture/
SUMMARY:Priory of Western USA Investiture
DESCRIPTION:\n	April 15.  Welcome Reception.  St. Francis Yacht Club\n	Ap
 ril 16.  Investiture at Grace Cathedral\n	April 16.  Dinner and Dance at
  the Pacific Union Club\n\nFor more information please contact Dame Suzann
 e Tognazzini at plants@sbcglobal.net
CATEGORIES:Investiture Date
END:VEVENT
END:VCALENDAR