BEGIN:VCALENDAR
VERSION:2.0
PRODID:-//wp-events-plugin.com//7.2.3.1//EN
BEGIN:VEVENT
UID:317@sosjinternational.org
DTSTART:20260617T140000Z
DTEND:20260617T160000Z
DTSTAMP:20260410T205246Z
URL:https://www.sosjinternational.org/news-events/events/glasgow-commander
 y-st-johns-day-celebration/
SUMMARY:Glasgow Commandery St. John's Day Celebration
DESCRIPTION:
CATEGORIES:Special Event,Social Events
END:VEVENT
END:VCALENDAR